BEGIN:VCALENDAR
VERSION:2.0
PRODID:-//Kentucky Native Plant Society Sandbox - ECPv6.15.20//NONSGML v1.0//EN
CALSCALE:GREGORIAN
METHOD:PUBLISH
X-ORIGINAL-URL:https://sandbox.knps.org
X-WR-CALDESC:Events for Kentucky Native Plant Society Sandbox
REFRESH-INTERVAL;VALUE=DURATION:PT1H
X-Robots-Tag:noindex
X-PUBLISHED-TTL:PT1H
BEGIN:VTIMEZONE
TZID:America/Kentucky/Louisville
BEGIN:DAYLIGHT
TZOFFSETFROM:-0500
TZOFFSETTO:-0400
TZNAME:EDT
DTSTART:20180311T070000
END:DAYLIGHT
BEGIN:STANDARD
TZOFFSETFROM:-0400
TZOFFSETTO:-0500
TZNAME:EST
DTSTART:20181104T060000
END:STANDARD
BEGIN:DAYLIGHT
TZOFFSETFROM:-0500
TZOFFSETTO:-0400
TZNAME:EDT
DTSTART:20190310T070000
END:DAYLIGHT
BEGIN:STANDARD
TZOFFSETFROM:-0400
TZOFFSETTO:-0500
TZNAME:EST
DTSTART:20191103T060000
END:STANDARD
BEGIN:DAYLIGHT
TZOFFSETFROM:-0500
TZOFFSETTO:-0400
TZNAME:EDT
DTSTART:20200308T070000
END:DAYLIGHT
BEGIN:STANDARD
TZOFFSETFROM:-0400
TZOFFSETTO:-0500
TZNAME:EST
DTSTART:20201101T060000
END:STANDARD
BEGIN:DAYLIGHT
TZOFFSETFROM:-0500
TZOFFSETTO:-0400
TZNAME:EDT
DTSTART:20210314T070000
END:DAYLIGHT
BEGIN:STANDARD
TZOFFSETFROM:-0400
TZOFFSETTO:-0500
TZNAME:EST
DTSTART:20211107T060000
END:STANDARD
BEGIN:DAYLIGHT
TZOFFSETFROM:-0500
TZOFFSETTO:-0400
TZNAME:EDT
DTSTART:20220313T070000
END:DAYLIGHT
BEGIN:STANDARD
TZOFFSETFROM:-0400
TZOFFSETTO:-0500
TZNAME:EST
DTSTART:20221106T060000
END:STANDARD
END:VTIMEZONE
BEGIN:VTIMEZONE
TZID:America/Indiana/Tell_City
BEGIN:DAYLIGHT
TZOFFSETFROM:-0600
TZOFFSETTO:-0500
TZNAME:CDT
DTSTART:20190310T080000
END:DAYLIGHT
BEGIN:STANDARD
TZOFFSETFROM:-0500
TZOFFSETTO:-0600
TZNAME:CST
DTSTART:20191103T070000
END:STANDARD
BEGIN:DAYLIGHT
TZOFFSETFROM:-0600
TZOFFSETTO:-0500
TZNAME:CDT
DTSTART:20200308T080000
END:DAYLIGHT
BEGIN:STANDARD
TZOFFSETFROM:-0500
TZOFFSETTO:-0600
TZNAME:CST
DTSTART:20201101T070000
END:STANDARD
BEGIN:DAYLIGHT
TZOFFSETFROM:-0600
TZOFFSETTO:-0500
TZNAME:CDT
DTSTART:20210314T080000
END:DAYLIGHT
BEGIN:STANDARD
TZOFFSETFROM:-0500
TZOFFSETTO:-0600
TZNAME:CST
DTSTART:20211107T070000
END:STANDARD
END:VTIMEZONE
BEGIN:VEVENT
DTSTART;TZID=America/Kentucky/Louisville:20210414T173000
DTEND;TZID=America/Kentucky/Louisville:20210414T203000
DTSTAMP:20260425T123325
CREATED:20210312T165330Z
LAST-MODIFIED:20210312T165330Z
UID:5695-1618421400-1618432200@sandbox.knps.org
SUMMARY:Botanical Drawing: Flower Portraits in Pencil
DESCRIPTION:As part of KNPS’s Wildflower Week 2021 activities we are incredibly excited to be able to offer this botanical drawing class. \nPlants offer an unending supply of interesting shapes\, textures\, and details for artists to discover and translate to the page. Botanists and artists alike must develop skills of seeing plants deeply. Amy Tipton will help introduce participants to critical exploration of plant forms.
URL:https://sandbox.knps.org/event/botanical-drawing-flower-portraits-in-pencil/
LOCATION:Online
CATEGORIES:Wildflower Week
ORGANIZER;CN="Kentucky Native Plant Society":MAILTO:KYPlants@knps.org
END:VEVENT
BEGIN:VEVENT
DTSTART;TZID=America/Kentucky/Louisville:20210410T160000
DTEND;TZID=America/Kentucky/Louisville:20210410T190000
DTSTAMP:20260425T123325
CREATED:20210312T165746Z
LAST-MODIFIED:20210312T165823Z
UID:5698-1618070400-1618081200@sandbox.knps.org
SUMMARY:Wildflower Week 2021: Opening Session
DESCRIPTION:Wildflower Week 2021 is going to kick off with an Opening Session on Saturday\, April 10. The session will be virtual\, and presented on Zoom. \nOpening Session Agenda\n \n\n\n\nKNPS Membership Meeting\nKentucky Botanists Big Year 2020 Results & Award\nWildflower Week 2021 Events\nBotanyBlitz 2021
URL:https://sandbox.knps.org/event/wildflower-week-2021-opening-session/
LOCATION:Online
CATEGORIES:Wildflower Week
ORGANIZER;CN="Kentucky Native Plant Society":MAILTO:KYPlants@knps.org
END:VEVENT
BEGIN:VEVENT
DTSTART;TZID=America/Kentucky/Louisville:20210410T080000
DTEND;TZID=America/Kentucky/Louisville:20210417T190000
DTSTAMP:20260425T123325
CREATED:20210312T164546Z
LAST-MODIFIED:20210312T164547Z
UID:5691-1618041600-1618686000@sandbox.knps.org
SUMMARY:Wildflower Week 2021
DESCRIPTION:With the pandemic still disrupting in-person activities\, KNPS will host a virtual Wildflower Week! This will include virtual events from April 10th through April 17th\, including a week-long\, statewide BotanyBlitz on iNaturalist. This is an opportunity to broaden our spring wildflower scope to the entire state of Kentucky and allow us to highlight natural areas across the state! In addition to the BotanyBlitz we will have virtual field trips\, led by naturalists from around the state\, online workshops\, and webinars.
URL:https://sandbox.knps.org/event/wildflower-week-2021/
LOCATION:Across the Commonwealth
CATEGORIES:Wildflower Week
ORGANIZER;CN="Kentucky Native Plant Society":MAILTO:KYPlants@knps.org
END:VEVENT
BEGIN:VEVENT
DTSTART;TZID=America/Kentucky/Louisville:20210410T080000
DTEND;TZID=America/Kentucky/Louisville:20210417T170000
DTSTAMP:20260425T123325
CREATED:20210312T164919Z
LAST-MODIFIED:20210312T164919Z
UID:5693-1618041600-1618678800@sandbox.knps.org
SUMMARY:Wildflower Week 2021 BotanyBlitz
DESCRIPTION:The centerpiece of our Wildflower Week activities will be our week long BotanyBlitz. From Saturday\, April 10\, through Saturday\, April 17\, we are encouraging everyone to visit parks and natural areas throughout the Commonwealth\, find and photograph native plants (with a focus on those in bloom)\, and upload them to our BotanyBlitz project.
URL:https://sandbox.knps.org/event/wildflower-week-2021-botanyblitz/
LOCATION:Across the Commonwealth
CATEGORIES:Wildflower Week
ORGANIZER;CN="Kentucky Native Plant Society":MAILTO:KYPlants@knps.org
END:VEVENT
BEGIN:VEVENT
DTSTART;TZID=America/Kentucky/Louisville:20210316T090000
DTEND;TZID=America/Kentucky/Louisville:20210316T120000
DTSTAMP:20260425T123325
CREATED:20210220T223349Z
LAST-MODIFIED:20210220T223406Z
UID:5081-1615885200-1615896000@sandbox.knps.org
SUMMARY:The Habitat Management Symposium
DESCRIPTION:The Habitat Management Symposium is a natural areas training event created for landowners and conservation professionals performing or planning habitat improvement practices. This symposium takes place on three Tuesdays: March 16\, March 23 and March 30\, from 10 am to 12 pm ET and 9 to 11 am CT. Tickets are free\, and registration is required to receive the event link.  \nThree-day event: March 16\, March 23\, and March 30
URL:https://sandbox.knps.org/event/the-habitat-management-symposium/
LOCATION:virtual
CATEGORIES:Educational Opportunity
END:VEVENT
BEGIN:VEVENT
DTSTART;TZID=America/Kentucky/Louisville:20210209T190000
DTEND;TZID=America/Kentucky/Louisville:20210209T203000
DTSTAMP:20260425T123325
CREATED:20210111T052827Z
LAST-MODIFIED:20210111T052827Z
UID:4558-1612897200-1612902600@sandbox.knps.org
SUMMARY:Kentucky Nature Trivia Series on Zoom
DESCRIPTION:**** Pre-registration is Required****\nThe Arboretum\, Raven Run\, Floracliff Nature Sanctuary\, Wild Ones Native Plants\, and The Central Kentucky Audubon Society will be hosting a series of free trivia nights on Tuesdays at 7 PM February 2nd through March 2nd. Join us from the comfort of your couch to test your knowledge on Kentucky birds\, botany\, animals\, and more using the Zoom platform. Don’t be intimidated if you are not an expert! All who love Kentucky nature are welcome to join and are guaranteed to have fun and be challenged. Pre-registration is required for all events as space is limited. Please see how to register with each organization below.\n\n\nFebruary 2nd at 7 PM\n“Trees\, Leaves\, & Flowers”\nHosted by The Arboretum\nJoin us for a virtual trivia night where you will be quizzed on your knowledge of botany\, native plants\, gardening and plant inspired pop culture. The winning team will win a potted plant grown by our Senior Horticulturalist\, Jesse Dahl.\nTo Pre-register email Arboretum@uky.edu or call (859) 257-9339 with the following information: the name of the event you wish to register for\, your name\, number of people in your party\, an email address and a phone number.\n\nFebruary 9th at 7 PM\n“Things with Wings”\nHosted by The Central Kentucky Audubon Society\nJoin with fellow aviphiles to test your trivia knowledge of all things bird nerd (and beyond)! If it flips\, flops\, or flies\, it’s fair game. Prizes of unspeakable worth TBA.\nTo pre-register\, send name(s)\, email\, and phone number to TriviaNight@CKAS.org. Zoom link provided in follow-up email.\n\nFebruary 16th at 7 PM\n“The Park After Dark”\nHosted by Raven Run\nJoin your fellow nature enthusiasts via Zoom to test your knowledge of nocturnal wildlife and all things nighttime nature! Create your own team in advance or let us create one for you on Tuesday. The winning team’s members will receive a Raven Run themed prize!\nTo pre-register\, call Raven Run at (859) 272-6105. You’ll need to provide an email address so we can send you the Zoom link. If you’re registering as a team\, all team members will need to register separately unless they are members of the same household.\n\nFebruary 23rd at 7 PM\n“Bluegrass Biodiversity”\nHosted by Floracliff Nature Sanctuary\nJoin fellow nature lovers for a virtual trivia night. We will test your knowledge on our local trees\, frogs\, butterflies\, and more!\nTo pre-register\, visit https://floracliff.org/…/kentucky-nature-trivia…/.\n\nMarch 2rd at 7 PM\n“Native Plants & Pollinators”\nHosted by Wild Ones Native Plants\nTest your knowledge of native plants\, pollinators and plants that invade our gardens and landscapes.\nTo pre-register\, please email bergmantee@gmail.com and please provide contact name\, email address\, phone number\, name of all participants in your party.
URL:https://sandbox.knps.org/event/kentucky-nature-trivia-series-on-zoom-2/
LOCATION:Floracliff Nature Sanctuary\, 8000 Elk Lick Falls Rd\, Lexington\, KY\, 40515\, United States
END:VEVENT
BEGIN:VEVENT
DTSTART;TZID=America/Kentucky/Louisville:20210202T190000
DTEND;TZID=America/Kentucky/Louisville:20210202T203000
DTSTAMP:20260425T123325
CREATED:20210111T052342Z
LAST-MODIFIED:20210111T052342Z
UID:4553-1612292400-1612297800@sandbox.knps.org
SUMMARY:Kentucky Nature Trivia Series on Zoom
DESCRIPTION:**** Pre-registration is Required****\nThe Arboretum\, Raven Run\, Floracliff Nature Sanctuary\, Wild Ones Native Plants\, and The Central Kentucky Audubon Society will be hosting a series of free trivia nights on Tuesdays at 7 PM February 2nd through March 2nd. Join us from the comfort of your couch to test your knowledge on Kentucky birds\, botany\, animals\, and more using the Zoom platform. Don’t be intimidated if you are not an expert! All who love Kentucky nature are welcome to join and are guaranteed to have fun and be challenged. Pre-registration is required for all events as space is limited. Please see how to register with each organization below.\n\n\nFebruary 2nd at 7 PM\n“Trees\, Leaves\, & Flowers”\nHosted by The Arboretum\nJoin us for a virtual trivia night where you will be quizzed on your knowledge of botany\, native plants\, gardening and plant inspired pop culture. The winning team will win a potted plant grown by our Senior Horticulturalist\, Jesse Dahl.\nTo Pre-register email Arboretum@uky.edu or call (859) 257-9339 with the following information: the name of the event you wish to register for\, your name\, number of people in your party\, an email address and a phone number.\n\nFebruary 9th at 7 PM\n“Things with Wings”\nHosted by The Central Kentucky Audubon Society\nJoin with fellow aviphiles to test your trivia knowledge of all things bird nerd (and beyond)! If it flips\, flops\, or flies\, it’s fair game. Prizes of unspeakable worth TBA.\nTo pre-register\, send name(s)\, email\, and phone number to TriviaNight@CKAS.org. Zoom link provided in follow-up email.\n\nFebruary 16th at 7 PM\n“The Park After Dark”\nHosted by Raven Run\nJoin your fellow nature enthusiasts via Zoom to test your knowledge of nocturnal wildlife and all things nighttime nature! Create your own team in advance or let us create one for you on Tuesday. The winning team’s members will receive a Raven Run themed prize!\nTo pre-register\, call Raven Run at (859) 272-6105. You’ll need to provide an email address so we can send you the Zoom link. If you’re registering as a team\, all team members will need to register separately unless they are members of the same household.\n\nFebruary 23rd at 7 PM\n“Bluegrass Biodiversity”\nHosted by Floracliff Nature Sanctuary\nJoin fellow nature lovers for a virtual trivia night. We will test your knowledge on our local trees\, frogs\, butterflies\, and more!\nTo pre-register\, visit https://floracliff.org/…/kentucky-nature-trivia…/.\n\nMarch 2rd at 7 PM\n“Native Plants & Pollinators”\nHosted by Wild Ones Native Plants\nTest your knowledge of native plants\, pollinators and plants that invade our gardens and landscapes.\nTo pre-register\, please email bergmantee@gmail.com and please provide contact name\, email address\, phone number\, name of all participants in your party.
URL:https://sandbox.knps.org/event/kentucky-nature-trivia-series-on-zoom/
LOCATION:virtual
END:VEVENT
BEGIN:VEVENT
DTSTART;TZID=America/Kentucky/Louisville:20210116T100000
DTEND;TZID=America/Kentucky/Louisville:20210116T113000
DTSTAMP:20260425T123325
CREATED:20210111T052500Z
LAST-MODIFIED:20210111T052500Z
UID:4549-1610791200-1610796600@sandbox.knps.org
SUMMARY:Virtual winter tree identification
DESCRIPTION:If you’ve ever had interest in doing tree identification\, but never felt like you had the chance\, then now’s your chance!\nJoin our January 16 Zoom Call from 10-11:30 am!\nPresentation targeted at beginner tree IDers\, but all ages and levels of arboreal wisdom are welcome!\nRegister Here: https://tinyurl.com/y3vjo8sj
URL:https://sandbox.knps.org/event/virtual-winter-tree-identification/
LOCATION:virtual
END:VEVENT
BEGIN:VEVENT
DTSTART;TZID=America/Kentucky/Louisville:20201213T100000
DTEND;TZID=America/Kentucky/Louisville:20201213T140000
DTSTAMP:20260425T123325
CREATED:20201125T234217Z
LAST-MODIFIED:20201125T234217Z
UID:4285-1607853600-1607868000@sandbox.knps.org
SUMMARY:Beargrass Thunder 2020 Seed Giveaway
DESCRIPTION:Beargrass Thunder will be having a seed giveaway for community members on Sunday\, December 13th. We encourage residents of neighborhoods along Beargrass Creek to participate to help the ecosystem in & around the creek\, but anyone is welcome to come say hi and bring home some native seeds! For more information\, see their Facebook event post: https://www.facebook.com/events/410196350345208/
URL:https://sandbox.knps.org/event/beargrass-thunder-2020-seed-giveaway/
END:VEVENT
BEGIN:VEVENT
DTSTART;TZID=America/Kentucky/Louisville:20201118T063000
DTEND;TZID=America/Kentucky/Louisville:20201118T200000
DTSTAMP:20260425T123325
CREATED:20201108T212710Z
LAST-MODIFIED:20201108T212710Z
UID:4218-1605681000-1605729600@sandbox.knps.org
SUMMARY:Invasive Species: Which ones should we worry about?
DESCRIPTION:Invasive species are introduced plants or animals that spread and compete with native species. Most introduced species are not invasive\, but a small number are. Invasive plant species are mostly introduced by the worldwide horticulture trade\, though some are introduced by government bodies such as the Natural Resource Conservation Service. Many species listed as invasive do little harm\, but often great effort and expense are devoted to extirpating them. With an emphasis on trees and shrubs\, we will discuss why some invasive species are more troublesome than others\, and you may be surprised at what we discover in our discussion.  \nThis is a Zoom webinar. There will be ample opportunity for participants to post questions.
URL:https://sandbox.knps.org/event/invasive-species-which-ones-should-we-worry-about/
END:VEVENT
BEGIN:VEVENT
DTSTART;TZID=America/Indiana/Tell_City:20200708T190000
DTEND;TZID=America/Indiana/Tell_City:20200708T190000
DTSTAMP:20260425T123325
CREATED:20200622T180318Z
LAST-MODIFIED:20200622T180332Z
UID:3743-1594234800-1594234800@sandbox.knps.org
SUMMARY:Honey Bees\, Native Bees\, and Creating a Bee-Friendly Landscape: A Short Course
DESCRIPTION:Bees are fascinating and widely diverse creatures with many different behaviors and life histories. Our most widely recognized bee\, the honey bee\, is native to Europe and Africa. However\, there are over 4\,000 species of bees native to the U.S.\, most of which are not nearly as familiar as the honey bee\, nor as well studied. Researchers are only just beginning to realize how important our native bees are to both the environment and agriculture\, especially small-scale agriculture. Join us for this four-part short course to learn about honey bees\, some of our local native bees\, and ways that you can encourage bee populations on your property by creating a bee-friendly landscape. \nClass Topics:\nJuly 8: An Introduction to Honey Bees\nJuly 15: An Introduction to Native Bees\nJuly 22: Creating a Bee-Friendly Landscape: Providing Shelter\nJuly 29: Creating a Bee-Friendly Landscape: Providing Forage
URL:https://sandbox.knps.org/event/honey-bees-native-bees-and-creating-a-bee-friendly-landscape-a-short-course/
END:VEVENT
BEGIN:VEVENT
DTSTART;VALUE=DATE:20200424
DTEND;VALUE=DATE:20200427
DTSTAMP:20260425T123325
CREATED:20200218T170256Z
LAST-MODIFIED:20200218T182109Z
UID:2863-1587686400-1587945599@sandbox.knps.org
SUMMARY:2020 Nature Summit
DESCRIPTION:Kentucky Nature Preserves\, in partner with KNPS and other conservation agencies\, is throwing  the first annual Nature Summit at Pine Mountain State Resort Park. This event will be April 24th-26th and will be a gathering of naturalists of all ages to celebrate and explore the biodiversity in the Pine Mountain region. \nJoin us for hikes\, presentations\, children’s activities\, and exclusive night time field trips all led by the experts! Some field trips have limited space and require sign-up with registration. Others occur on park property all day long and do not require sign-up. There is something for everyone\, so bring the whole family! \nClick here to register and see a full schedule of the Kentucky Nature Summit. All participants must register to attend. An email regarding field trip sign-up will be sent to you once you have registered.
URL:https://sandbox.knps.org/event/2020-nature-summit/
LOCATION:Pine Mountain State Resort Park\, 1050 State Park Road\, Pineville\, KY\, 40977\, United States
END:VEVENT
BEGIN:VEVENT
DTSTART;TZID=America/Kentucky/Louisville:20200306T130000
DTEND;TZID=America/Kentucky/Louisville:20200306T160000
DTSTAMP:20260425T123325
CREATED:20200302T205432Z
LAST-MODIFIED:20200302T205432Z
UID:3074-1583499600-1583510400@sandbox.knps.org
SUMMARY:Forest Fridays: March
DESCRIPTION:
URL:https://sandbox.knps.org/event/forest-fridays-march/
LOCATION:Floracliff Nature Sanctuary\, 8000 Elk Lick Falls Rd\, Lexington\, KY\, 40515\, United States
END:VEVENT
BEGIN:VEVENT
DTSTART;TZID=America/Kentucky/Louisville:20200305T183000
DTEND;TZID=America/Kentucky/Louisville:20200305T183000
DTSTAMP:20260425T123325
CREATED:20200225T205346Z
LAST-MODIFIED:20200225T205415Z
UID:3000-1583433000-1583433000@sandbox.knps.org
SUMMARY:Raising Butterflies and Moths in the Backyard
DESCRIPTION:By Web Barney\, entomologist; sponsored by Lexington chapter of Wild Ones.
URL:https://sandbox.knps.org/event/raising-butterflies-and-moths-in-the-backyard/
LOCATION:St. Michael’s Church\, 2025 Bellefonte Drive\, Lexington\, KY\, 40291
CATEGORIES:Educational Opportunity
END:VEVENT
BEGIN:VEVENT
DTSTART;TZID=America/Kentucky/Louisville:20200229T093000
DTEND;TZID=America/Kentucky/Louisville:20200229T120000
DTSTAMP:20260425T123325
CREATED:20200225T204257Z
LAST-MODIFIED:20200225T204257Z
UID:2990-1582968600-1582977600@sandbox.knps.org
SUMMARY:Workday at Dolly Graham Park
DESCRIPTION:Help remove invasive plants at Dolly Graham Park. You’ll spend time learning how to identify problem plants and effective removal techniques.
URL:https://sandbox.knps.org/event/workday-at-dolly-graham-park/
LOCATION:Dolly Graham Park\, 225 River Street\, Frankfort\, KY\, 40601\, United States
CATEGORIES:Volunteer Opportunities
END:VEVENT
BEGIN:VEVENT
DTSTART;TZID=America/Kentucky/Louisville:20191206T100000
DTEND;TZID=America/Kentucky/Louisville:20191206T150000
DTSTAMP:20260425T123325
CREATED:20191016T141352Z
LAST-MODIFIED:20191016T141409Z
UID:1898-1575626400-1575644400@sandbox.knps.org
SUMMARY:Volunteer Work Day - Franklin Co.
DESCRIPTION:Join with other KNPS members and Kentucky State Nature Preserves employees in invasive species removal.
URL:https://sandbox.knps.org/event/volunteer-work-day-franklin-co-2/
CATEGORIES:Volunteer Opportunities
END:VEVENT
BEGIN:VEVENT
DTSTART;TZID=America/Kentucky/Louisville:20191115T100000
DTEND;TZID=America/Kentucky/Louisville:20191115T150000
DTSTAMP:20260425T123325
CREATED:20191016T141229Z
LAST-MODIFIED:20191016T141544Z
UID:1896-1573812000-1573830000@sandbox.knps.org
SUMMARY:Volunteer Work Day - Franklin Co.
DESCRIPTION:Join with other KNPS members and Kentucky State Nature Preserves employees in invasive species removal.
URL:https://sandbox.knps.org/event/volunteer-work-day-franklin-co/
CATEGORIES:Volunteer Opportunities
END:VEVENT
BEGIN:VEVENT
DTSTART;TZID=America/Kentucky/Louisville:20191108T100000
DTEND;TZID=America/Kentucky/Louisville:20191108T150000
DTSTAMP:20260425T123325
CREATED:20190903T182926Z
LAST-MODIFIED:20191016T141612Z
UID:1670-1573207200-1573225200@sandbox.knps.org
SUMMARY:Volunteer Work Day - Franklin Co.
DESCRIPTION:Join with other KNPS members and Kentucky State Nature Preserves employees in invasive species removal.
URL:https://sandbox.knps.org/event/stewardship-work-day-frankfort-area/
CATEGORIES:Volunteer Opportunities
END:VEVENT
BEGIN:VEVENT
DTSTART;TZID=America/Kentucky/Louisville:20191102T090000
DTEND;TZID=America/Kentucky/Louisville:20191102T120000
DTSTAMP:20260425T123325
CREATED:20191021T173531Z
LAST-MODIFIED:20191021T175552Z
UID:1913-1572685200-1572696000@sandbox.knps.org
SUMMARY:Ashland Clean-Up Day: Protecting Running Buffalo Clover
DESCRIPTION:Join us as we pull winter-creeper from populations of running buffalo clover at Ashland\, The Henry Clay Estate in Lexington.
URL:https://sandbox.knps.org/event/ashland-clean-up-day-protecting-running-buffalo-clover/
LOCATION:Ashland\, The Henry Clay Estate\, 120 Sycamore Rd\, Lexington\, KY\, 40502
END:VEVENT
BEGIN:VEVENT
DTSTART;VALUE=DATE:20191012
DTEND;VALUE=DATE:20191013
DTSTAMP:20260425T123325
CREATED:20190324T152443Z
LAST-MODIFIED:20190324T152700Z
UID:1477-1570838400-1570924799@sandbox.knps.org
SUMMARY:KNPS Fall Membership Meeting
DESCRIPTION:
URL:https://sandbox.knps.org/event/knps-fall-membership-meeting/
LOCATION:Frankfort\, Frankfort\, KY\, 40602\, United States
ORGANIZER;CN="Kentucky Native Plant Society":MAILTO:KYPlants@knps.org
END:VEVENT
BEGIN:VEVENT
DTSTART;TZID=America/Kentucky/Louisville:20190713T100000
DTEND;TZID=America/Kentucky/Louisville:20190713T160000
DTSTAMP:20260425T123325
CREATED:20190324T151423Z
LAST-MODIFIED:20190324T151423Z
UID:1469-1563012000-1563033600@sandbox.knps.org
SUMMARY:Mantle Rock Nature Preserve Floristic Inventory
DESCRIPTION:Join Chris Benda (Illinois botanizer)\, Jeff Nelson (KNPS Board Member)\, Tara Littlefield (Botanist at Kentucky Nature Preserves/Kentucky Botanist)\, and Shelly Morris (Western Kentucky TNC Project Director) as we conduct a floristic inventory at Mantle Rock of sandstone glades\, barrens\, woodlands and mesic forests at this floristically fascinating site.
URL:https://sandbox.knps.org/event/mantle-rock-nature-preserve-floristic-inventory/
LOCATION:Mantle Rock Preserve\, Mantle Rock Road\, Smithland\, Kentucky\, 42081
END:VEVENT
BEGIN:VEVENT
DTSTART;TZID=America/Kentucky/Louisville:20190706T100000
DTEND;TZID=America/Kentucky/Louisville:20190706T140000
DTSTAMP:20260425T123325
CREATED:20190324T150919Z
LAST-MODIFIED:20190701T183114Z
UID:1466-1562407200-1562421600@sandbox.knps.org
SUMMARY:Land between the Lakes- Botanical Hotspot Tour
DESCRIPTION:Join Devin Rodgers\, botanist at Kentucky Nature Preserves\, as we stop at several botanically important sites at LBL from prairies to wetlands.
URL:https://sandbox.knps.org/event/land-between-the-lakes-botanical-hotspot-tour/
LOCATION:Woodlands Nature Station\, 3146 Silver Trail Rd\, Cadiz\, KY\, 42211\, United States
END:VEVENT
BEGIN:VEVENT
DTSTART;TZID=America/Kentucky/Louisville:20190706T080000
DTEND;TZID=America/Kentucky/Louisville:20190706T130000
DTSTAMP:20260425T123325
CREATED:20190611T202202Z
LAST-MODIFIED:20190611T203047Z
UID:1577-1562400000-1562418000@sandbox.knps.org
SUMMARY:7th Annual Kentucky Native Plant Sale and Fundraiser
DESCRIPTION:223 Jefferson Street in Berea at Memorial Park in the big shelter house. Rain or shine. All proceeds benefit Monarch.watch and other nature groups. Call Ann Longsworth at 859-985-0309 for questions.
URL:https://sandbox.knps.org/event/7th-annual-kentucky-native-plant-sale-and-fundraiser/
LOCATION:Memorial Park\, Berea\, KY\, 223 Jefferson street\, Berea\, Kentucky
END:VEVENT
BEGIN:VEVENT
DTSTART;TZID=America/Kentucky/Louisville:20190622T100000
DTEND;TZID=America/Kentucky/Louisville:20190622T130000
DTSTAMP:20260425T123325
CREATED:20190324T150305Z
LAST-MODIFIED:20190816T184557Z
UID:1463-1561197600-1561208400@sandbox.knps.org
SUMMARY:Prairies and Forests of Shaker Village of Pleasant Hill
DESCRIPTION:Join Laura Baird\, assistant preserve manager and naturalist\, on a hike to view the prairie restoration\, as well as the adjacent forests at Shakertown.
URL:https://sandbox.knps.org/event/prairies-and-forests-of-shaker-village-of-pleasant-hill/
LOCATION:Shaker Village of Pleasant Hill\, 3501 Lexington Road\, Harrodsburg\, Kentucky\, 40330
CATEGORIES:Field Trips
END:VEVENT
BEGIN:VEVENT
DTSTART;TZID=America/Kentucky/Louisville:20190607T100000
DTEND;TZID=America/Kentucky/Louisville:20190607T140000
DTSTAMP:20260425T123325
CREATED:20190324T144206Z
LAST-MODIFIED:20190324T144505Z
UID:1460-1559901600-1559916000@sandbox.knps.org
SUMMARY:Pine Barrens of the Cumberland Plateau
DESCRIPTION:Join Jim Scheff (Director of Heartwood)\, Tara Littlefield (botanist at the office of Kentucky Nature Preserves) and David Taylor (forest botanist at the Daniel Boone National Forest) as we explore the Keno and Curt Pond Ridge Conservation Site\, a botanical hotspot of prairie and pine oak barrens\, seeps and upland ponds just south of Somerset.
URL:https://sandbox.knps.org/event/pine-barrens-of-the-cumberland-plateau/
LOCATION:Curt Pond Ridge\, Kentucky\, 42519
END:VEVENT
BEGIN:VEVENT
DTSTART;TZID=America/Kentucky/Louisville:20190521T090000
DTEND;TZID=America/Kentucky/Louisville:20190522T170000
DTSTAMP:20260425T123325
CREATED:20190127T033034Z
LAST-MODIFIED:20190324T143716Z
UID:905-1558429200-1558544400@sandbox.knps.org
SUMMARY:Sedge Workshop
DESCRIPTION:We are sorry\, but this workshop is completely full. \nMany of the grass like plants one may encounter in Kentucky in our natural areas are not actually grasses. Although similar\, they are members of an entirely different family of plants. This workshop will focus on the largest genus within the sedge family (Cyperaceae)\, the genus Carex.
URL:https://sandbox.knps.org/event/carex-workshop/
LOCATION:Eastern Kentucky University\, 521 Lancaster Ave\, Richmond\, KY\, 40475\, United States
END:VEVENT
BEGIN:VEVENT
DTSTART;TZID=America/Kentucky/Louisville:20190511T090000
DTEND;TZID=America/Kentucky/Louisville:20190511T120000
DTSTAMP:20260425T123325
CREATED:20190324T143532Z
LAST-MODIFIED:20190423T190557Z
UID:1456-1557565200-1557576000@sandbox.knps.org
SUMMARY:Griffith Woods WMA Field Trip
DESCRIPTION:Join Dr. Julian Campbell at Griffith Woods and hear all about this iconic bluegrass woodland with old growth oaks and hickories\, cane thickets\, and remnant mesic herbaceous flowers\, such as bear grass and running buffalo clover.
URL:https://sandbox.knps.org/event/griffith-woods-wma-field-trip/
LOCATION:Griffith Woods Wildlife Management Area\, 3499 Leesburg Pike\, Cynthiana\, Kentuky\, 41031
END:VEVENT
BEGIN:VEVENT
DTSTART;VALUE=DATE:20190412
DTEND;VALUE=DATE:20190414
DTSTAMP:20260425T123325
CREATED:20190111T020256Z
LAST-MODIFIED:20190314T122349Z
UID:415-1555027200-1555199999@sandbox.knps.org
SUMMARY:Wildflower Weekend
DESCRIPTION:
URL:https://sandbox.knps.org/event/wildflower-weekend/
LOCATION:Natural Bridge State Resort Park\, 2135 Natural Bridge Rd\, Slade\, KY\, 40376\, United States
END:VEVENT
BEGIN:VEVENT
DTSTART;TZID=America/Kentucky/Louisville:20190405T100000
DTEND;TZID=America/Kentucky/Louisville:20190405T130000
DTSTAMP:20260425T123325
CREATED:20190324T143149Z
LAST-MODIFIED:20190324T143149Z
UID:1453-1554458400-1554469200@sandbox.knps.org
SUMMARY:Hazeldell Meadow Nature Preserve Field Trip
DESCRIPTION:Join Dr. Krupa at Hazeldell Meadow Nature Preserve and hear all about his latest studies of Kentucky’s rarest carnivorous plant\, the dwarf sundew\, (Drosera brevifolia).
URL:https://sandbox.knps.org/event/hazeldell-meadow-nature-preserve-field-trip/
LOCATION:Hazeldell Meadow Nature Preserve\, 1150-1492 Ocalla Rd\, Somerset\, Kentucky\, 42503
END:VEVENT
END:VCALENDAR